BEGIN:VCALENDAR
METHOD:PUBLISH
VERSION:2.0
PRODID:-//Eventilla iCal Syndication//NONSGML Liana//EN
BEGIN:VEVENT
UID:xrrN5@eventilla.com
DTSTAMP:20200611T110000Z
DTSTART:20200611T110000Z
DTEND:20200611T120000Z
SUMMARY:Helsingin Ekonomit x Futurice: Miten datalla tehdään bisnestä? WEBINAARI
DESCRIPTION:Webinaari\nHelsingin Ekonomit x Futurice\nMiten datalla tehdään bisnestä?\nMiten yritykset kasvavat ja luovat liikevaihtoa datan avulla? Tekoälyn hyödyntäminen perinteisten prosessien tehostamisessa on tuttua kauraa\, mutta datavetoisista liiketoimintamalleista puhutaan paljon vähemmän.\nMiten rakennetaan liiketoimintamalleja datan hyödyntämisen ympärille? Miten tehdään rahaa tekoälyllä? Miten data voi opettaa yrityksiä kehittämään kulttuuriaan ja luomaan entistä enemmän arvoa asiakkailleen? Miten tietotyön johtamista voi parantaa datan ja tekoälyn avulla?\nLiikkeenjohdon kerho ja Futurice kutsuvat Helsingin Ekonomien jäsenet tasonnostotalkoisiin. Puhujina Futuricen kokeneet asiantuntijat Mika Ruokonen (Business Director) ja Anni Harju (Head of Strategy).\nTervetuloa mukaan!\nIlmoittaudu viimeistään 11.6. klo 13.30.\nJärjestäjä: Liikkeenjohdon kerho ja Konsuliklubi
LOCATION:Webinaari\, Oma tietokone tai mobiililaite
URL:http://tapahtumat.ekonomit.fi/event/xrrN5
END:VEVENT
END:VCALENDAR
