BEGIN:VCALENDAR
METHOD:PUBLISH
VERSION:2.0
PRODID:-//Eventilla iCal Syndication//NONSGML Liana//EN
BEGIN:VEVENT
UID:moVav@eventilla.com
DTSTAMP:20200219T143000Z
DTSTART:20200219T143000Z
DTEND:20200219T174500Z
SUMMARY:Asiakasjohtaminen\, kaupallistaminen ja älykkään myynnin ekosysteemit
DESCRIPTION:Asiakasjohtaminen\, kaupallistaminen ja älykkään myynnin ekosysteemit\nOhjelma\nklo 16.30–17.00 Ilmoittautuminen ja kahvitarjoilu\nklo 17.10–18.00 Juha Porkka\, Business Performance Finland Oy\n\nAsiakkuuksien johtaminen 2020 – rakenna ja kirkasta toimintamallit\, joilla johdat yrityksesi asiakkuuksia!\n\nAsiakkuuksien strategisen johtamisen tavoitteet ja asiakasjohtamisen toimintamallit\nAsiakaspääoman kehittäminen\nAsiakkuuksien segmentointi ja asiakasluokittelu\nAsiakashoitomallit\nAsiakaspääoman aktiivinen ja suunnitelmallinen kehittäminen\n\n\n\nklo 18.00–18.50 Tommi Pelkonen\, Senior Advisor\, Proof advisory (Part of Salomaa group)\n\nIdeat kaupaksi: Proof Advisory: b-to-b-yritysten kaupallistaminen\, tuotteistaminen\, kansainvälistyminen\, myynti ja markkinoille vienti\n\nKaupallisten menestystarinoiden rakentaminen\, tuotteistaminen ja kansainvälistyminen\nPPP Yhteistyö: Mukaan matkalle kaupallistamisen maailman huipulle tarvitaan menestyksennälkäisiä ja maailmaa muuttavia yrityksiä\, oppilaitoksia\, poliittisia ja ei-kaupallisia vaikuttajia\, mediaa ja yksittäisiä ihmisiä\nTulevaisuuden kehitys- ja kasvupotentiaali kaupallistamisessa\n\n\n\nklo 18.50–19.40 Pia Hautamäki\, KTT\, ROBINS-hankkeen vastuullinen johtaja\, Tampereen ammattikorkeakoulu\, Myynnin yliopettaja ja tutkija\n\nKohti älykkään myynnin ekosysteemiä\n\nMillaisia älykkäitä myynnin ja markkinoinnin työkaluja tulisi ottaa käyttöön ja miten tällaiset työkalut murtavat perinteisiä johtamisen ja liiketoiminnan tekemisen tapoja?\nROBINS-tutkimushankkeen älykkään myyntirobotiikan ja automatisaation toiminta- ja johtamismallit tukevat yritysten kasvua myös kansainvälisesti.\nÄlykkään myynnin aika\n\n\n\nKlo 19.50 Tilaisuus päättyy\nTapahtuma on suunnattu ensisijaisesti asiakkuuksien johtamisen\, kaupallistamisen\, tuotteistamisen ja älykkään myynnin ekosysteemien parissa työskentelevistä sekä tapahtuman teemoista kiinnostuneista ekonomeille.\nPaikkoja on 80. Ilmoittautuminen viimeistään 9.2.\nJärjestäjä: Vaikuttajaekonomit
LOCATION:Clarion Hotel Helsinki, Makasiini Event Venue\, Tyynenmerenkatu
 2\, 00220\, Helsinki\, Suomi
URL:http://tapahtumat.ekonomit.fi/event/moVav
END:VEVENT
END:VCALENDAR
